BEGIN:VCALENDAR
VERSION:2.0
PRODID:-//Bruce&#039;s Syrup and Candies - ECPv6.15.20//NONSGML v1.0//EN
CALSCALE:GREGORIAN
METHOD:PUBLISH
X-ORIGINAL-URL:https://brucessyrupandcandies.com
X-WR-CALDESC:Events for Bruce&#039;s Syrup and Candies
REFRESH-INTERVAL;VALUE=DURATION:PT1H
X-Robots-Tag:noindex
X-PUBLISHED-TTL:PT1H
BEGIN:VTIMEZONE
TZID:UTC
BEGIN:STANDARD
TZOFFSETFROM:+0000
TZOFFSETTO:+0000
TZNAME:UTC
DTSTART:20250101T000000
END:STANDARD
END:VTIMEZONE
BEGIN:VEVENT
DTSTART;TZID=UTC:20260707T080000
DTEND;TZID=UTC:20260707T130000
DTSTAMP:20260418T202930
CREATED:20260403T141042Z
LAST-MODIFIED:20260403T141042Z
UID:1276-1783411200-1783429200@brucessyrupandcandies.com
SUMMARY:Harrisonburg Farmer's Market
DESCRIPTION:
URL:https://brucessyrupandcandies.com/event/harrisonburg-farmers-market-26/
LOCATION:Turner Pavilion 228 S Liberty Street Harrisonburg\, 228 South Liberty Street\, Harrisonburg\, VA\, 22801\, United States
END:VEVENT
BEGIN:VEVENT
DTSTART;TZID=UTC:20260711T080000
DTEND;TZID=UTC:20260711T130000
DTSTAMP:20260418T202930
CREATED:20260403T141119Z
LAST-MODIFIED:20260403T141119Z
UID:1278-1783756800-1783774800@brucessyrupandcandies.com
SUMMARY:Harrisonburg Farmer's Market
DESCRIPTION:
URL:https://brucessyrupandcandies.com/event/harrisonburg-farmers-market-27/
LOCATION:Turner Pavilion 228 S Liberty Street Harrisonburg\, 228 South Liberty Street\, Harrisonburg\, VA\, 22801\, United States
END:VEVENT
BEGIN:VEVENT
DTSTART;TZID=UTC:20260714T080000
DTEND;TZID=UTC:20260714T130000
DTSTAMP:20260418T202930
CREATED:20260403T141202Z
LAST-MODIFIED:20260403T141202Z
UID:1280-1784016000-1784034000@brucessyrupandcandies.com
SUMMARY:Harrisonburg Farmer's Market
DESCRIPTION:
URL:https://brucessyrupandcandies.com/event/harrisonburg-farmers-market-28/
LOCATION:Turner Pavilion 228 S Liberty Street Harrisonburg\, 228 South Liberty Street\, Harrisonburg\, VA\, 22801\, United States
END:VEVENT
BEGIN:VEVENT
DTSTART;TZID=UTC:20260718T080000
DTEND;TZID=UTC:20260718T130000
DTSTAMP:20260418T202930
CREATED:20260403T141347Z
LAST-MODIFIED:20260403T141347Z
UID:1282-1784361600-1784379600@brucessyrupandcandies.com
SUMMARY:Harrisonburg Farmer's Market
DESCRIPTION:
URL:https://brucessyrupandcandies.com/event/harrisonburg-farmers-market-29/
LOCATION:Turner Pavilion 228 S Liberty Street Harrisonburg\, 228 South Liberty Street\, Harrisonburg\, VA\, 22801\, United States
END:VEVENT
BEGIN:VEVENT
DTSTART;TZID=UTC:20260721T080000
DTEND;TZID=UTC:20260721T130000
DTSTAMP:20260418T202930
CREATED:20260403T141431Z
LAST-MODIFIED:20260403T141431Z
UID:1284-1784620800-1784638800@brucessyrupandcandies.com
SUMMARY:Harrisonburg Farmer's Market
DESCRIPTION:
URL:https://brucessyrupandcandies.com/event/harrisonburg-farmers-market-30/
LOCATION:Turner Pavilion 228 S Liberty Street Harrisonburg\, 228 South Liberty Street\, Harrisonburg\, VA\, 22801\, United States
END:VEVENT
BEGIN:VEVENT
DTSTART;TZID=UTC:20260725T080000
DTEND;TZID=UTC:20260725T130000
DTSTAMP:20260418T202930
CREATED:20260403T141530Z
LAST-MODIFIED:20260403T141530Z
UID:1286-1784966400-1784984400@brucessyrupandcandies.com
SUMMARY:Harrisonburg Farmer's Market
DESCRIPTION:
URL:https://brucessyrupandcandies.com/event/harrisonburg-farmers-market-31/
LOCATION:Turner Pavilion 228 S Liberty Street Harrisonburg\, 228 South Liberty Street\, Harrisonburg\, VA\, 22801\, United States
END:VEVENT
BEGIN:VEVENT
DTSTART;TZID=UTC:20260728T080000
DTEND;TZID=UTC:20260728T130000
DTSTAMP:20260418T202930
CREATED:20260403T141613Z
LAST-MODIFIED:20260403T141613Z
UID:1288-1785225600-1785243600@brucessyrupandcandies.com
SUMMARY:Harrisonburg Farmer's Market
DESCRIPTION:
URL:https://brucessyrupandcandies.com/event/harrisonburg-farmers-market-32/
LOCATION:Turner Pavilion 228 S Liberty Street Harrisonburg\, 228 South Liberty Street\, Harrisonburg\, VA\, 22801\, United States
END:VEVENT
BEGIN:VEVENT
DTSTART;TZID=UTC:20260801T080000
DTEND;TZID=UTC:20260801T130000
DTSTAMP:20260418T202930
CREATED:20260403T141846Z
LAST-MODIFIED:20260403T141846Z
UID:1290-1785571200-1785589200@brucessyrupandcandies.com
SUMMARY:Harrisonburg Farmer's Market
DESCRIPTION:
URL:https://brucessyrupandcandies.com/event/harrisonburg-farmers-market-33/
LOCATION:Turner Pavilion 228 S Liberty Street Harrisonburg\, 228 South Liberty Street\, Harrisonburg\, VA\, 22801\, United States
END:VEVENT
BEGIN:VEVENT
DTSTART;TZID=UTC:20260804T080000
DTEND;TZID=UTC:20260804T130000
DTSTAMP:20260418T202930
CREATED:20260403T141930Z
LAST-MODIFIED:20260403T141930Z
UID:1292-1785830400-1785848400@brucessyrupandcandies.com
SUMMARY:Harrisonburg Farmer's Market
DESCRIPTION:
URL:https://brucessyrupandcandies.com/event/harrisonburg-farmers-market-34/
LOCATION:Turner Pavilion 228 S Liberty Street Harrisonburg\, 228 South Liberty Street\, Harrisonburg\, VA\, 22801\, United States
END:VEVENT
BEGIN:VEVENT
DTSTART;TZID=UTC:20260808T080000
DTEND;TZID=UTC:20260808T130000
DTSTAMP:20260418T202930
CREATED:20260403T142010Z
LAST-MODIFIED:20260403T142010Z
UID:1294-1786176000-1786194000@brucessyrupandcandies.com
SUMMARY:Harrisonburg Farmer's Market
DESCRIPTION:
URL:https://brucessyrupandcandies.com/event/harrisonburg-farmers-market-35/
LOCATION:The Highland Center Monterey VA\, 61 Highland Center Drive\, Monterey\, VA\, 24465\, United States
END:VEVENT
BEGIN:VEVENT
DTSTART;TZID=UTC:20260811T080000
DTEND;TZID=UTC:20260811T130000
DTSTAMP:20260418T202930
CREATED:20260403T142053Z
LAST-MODIFIED:20260403T142053Z
UID:1296-1786435200-1786453200@brucessyrupandcandies.com
SUMMARY:Harrisonburg Farmer's Market
DESCRIPTION:
URL:https://brucessyrupandcandies.com/event/harrisonburg-farmers-market-36/
LOCATION:Turner Pavilion 228 S Liberty Street Harrisonburg\, 228 South Liberty Street\, Harrisonburg\, VA\, 22801\, United States
END:VEVENT
BEGIN:VEVENT
DTSTART;TZID=UTC:20260815T080000
DTEND;TZID=UTC:20260815T130000
DTSTAMP:20260418T202930
CREATED:20260403T142141Z
LAST-MODIFIED:20260403T142141Z
UID:1298-1786780800-1786798800@brucessyrupandcandies.com
SUMMARY:Harrisonburg Farmer's Market
DESCRIPTION:
URL:https://brucessyrupandcandies.com/event/harrisonburg-farmers-market-37/
LOCATION:Turner Pavilion 228 S Liberty Street Harrisonburg\, 228 South Liberty Street\, Harrisonburg\, VA\, 22801\, United States
END:VEVENT
BEGIN:VEVENT
DTSTART;TZID=UTC:20260818T080000
DTEND;TZID=UTC:20260818T130000
DTSTAMP:20260418T202930
CREATED:20260403T142226Z
LAST-MODIFIED:20260403T142226Z
UID:1300-1787040000-1787058000@brucessyrupandcandies.com
SUMMARY:Harrisonburg Farmer's Market
DESCRIPTION:
URL:https://brucessyrupandcandies.com/event/harrisonburg-farmers-market-38/
LOCATION:Turner Pavilion 228 S Liberty Street Harrisonburg\, 228 South Liberty Street\, Harrisonburg\, VA\, 22801\, United States
END:VEVENT
BEGIN:VEVENT
DTSTART;TZID=UTC:20260822T080000
DTEND;TZID=UTC:20260822T130000
DTSTAMP:20260418T202930
CREATED:20260403T142314Z
LAST-MODIFIED:20260403T142314Z
UID:1302-1787385600-1787403600@brucessyrupandcandies.com
SUMMARY:Harrisonburg Farmer's Market
DESCRIPTION:
URL:https://brucessyrupandcandies.com/event/harrisonburg-farmers-market-39/
LOCATION:Turner Pavilion 228 S Liberty Street Harrisonburg\, 228 South Liberty Street\, Harrisonburg\, VA\, 22801\, United States
END:VEVENT
BEGIN:VEVENT
DTSTART;TZID=UTC:20260825T080000
DTEND;TZID=UTC:20260825T130000
DTSTAMP:20260418T202930
CREATED:20260403T142520Z
LAST-MODIFIED:20260403T142520Z
UID:1304-1787644800-1787662800@brucessyrupandcandies.com
SUMMARY:Harrisonburg Farmer's Market
DESCRIPTION:
URL:https://brucessyrupandcandies.com/event/harrisonburg-farmers-market-40/
LOCATION:Turner Pavilion 228 S Liberty Street Harrisonburg\, 228 South Liberty Street\, Harrisonburg\, VA\, 22801\, United States
END:VEVENT
BEGIN:VEVENT
DTSTART;TZID=UTC:20260829T080000
DTEND;TZID=UTC:20260829T130000
DTSTAMP:20260418T202930
CREATED:20260403T142614Z
LAST-MODIFIED:20260403T142614Z
UID:1306-1787990400-1788008400@brucessyrupandcandies.com
SUMMARY:Harrisonburg Farmer's Market
DESCRIPTION:
URL:https://brucessyrupandcandies.com/event/harrisonburg-farmers-market-41/
LOCATION:Turner Pavilion 228 S Liberty Street Harrisonburg\, 228 South Liberty Street\, Harrisonburg\, VA\, 22801\, United States
END:VEVENT
BEGIN:VEVENT
DTSTART;TZID=UTC:20260901T080000
DTEND;TZID=UTC:20260901T130000
DTSTAMP:20260418T202930
CREATED:20260403T142659Z
LAST-MODIFIED:20260403T142659Z
UID:1308-1788249600-1788267600@brucessyrupandcandies.com
SUMMARY:Harrisonburg Farmer's Market
DESCRIPTION:
URL:https://brucessyrupandcandies.com/event/harrisonburg-farmers-market-42/
LOCATION:Turner Pavilion 228 S Liberty Street Harrisonburg\, 228 South Liberty Street\, Harrisonburg\, VA\, 22801\, United States
END:VEVENT
BEGIN:VEVENT
DTSTART;TZID=UTC:20260905T080000
DTEND;TZID=UTC:20260905T130000
DTSTAMP:20260418T202930
CREATED:20260403T142736Z
LAST-MODIFIED:20260403T142736Z
UID:1310-1788595200-1788613200@brucessyrupandcandies.com
SUMMARY:Harrisonburg Farmer's Market
DESCRIPTION:
URL:https://brucessyrupandcandies.com/event/harrisonburg-farmers-market-43/
LOCATION:Turner Pavilion 228 S Liberty Street Harrisonburg\, 228 South Liberty Street\, Harrisonburg\, VA\, 22801\, United States
END:VEVENT
BEGIN:VEVENT
DTSTART;TZID=UTC:20260908T080000
DTEND;TZID=UTC:20260908T130000
DTSTAMP:20260418T202930
CREATED:20260403T142818Z
LAST-MODIFIED:20260403T142818Z
UID:1312-1788854400-1788872400@brucessyrupandcandies.com
SUMMARY:Harrisonburg Farmer's Market
DESCRIPTION:
URL:https://brucessyrupandcandies.com/event/harrisonburg-farmers-market-44/
LOCATION:Turner Pavilion 228 S Liberty Street Harrisonburg\, 228 South Liberty Street\, Harrisonburg\, VA\, 22801\, United States
END:VEVENT
BEGIN:VEVENT
DTSTART;TZID=UTC:20260912T080000
DTEND;TZID=UTC:20260912T130000
DTSTAMP:20260418T202930
CREATED:20260403T142858Z
LAST-MODIFIED:20260403T142858Z
UID:1314-1789200000-1789218000@brucessyrupandcandies.com
SUMMARY:Harrisonburg Farmer's Market
DESCRIPTION:
URL:https://brucessyrupandcandies.com/event/harrisonburg-farmers-market-45/
LOCATION:Turner Pavilion 228 S Liberty Street Harrisonburg\, 228 South Liberty Street\, Harrisonburg\, VA\, 22801\, United States
END:VEVENT
BEGIN:VEVENT
DTSTART;TZID=UTC:20260915T080000
DTEND;TZID=UTC:20260915T130000
DTSTAMP:20260418T202930
CREATED:20260403T191033Z
LAST-MODIFIED:20260403T191033Z
UID:1316-1789459200-1789477200@brucessyrupandcandies.com
SUMMARY:Harrisonburg Farmer's Market
DESCRIPTION:
URL:https://brucessyrupandcandies.com/event/harrisonburg-farmers-market-46/
LOCATION:Turner Pavilion 228 S Liberty Street Harrisonburg\, 228 South Liberty Street\, Harrisonburg\, VA\, 22801\, United States
END:VEVENT
BEGIN:VEVENT
DTSTART;TZID=UTC:20260919T080000
DTEND;TZID=UTC:20260919T130000
DTSTAMP:20260418T202930
CREATED:20260403T191126Z
LAST-MODIFIED:20260403T191126Z
UID:1318-1789804800-1789822800@brucessyrupandcandies.com
SUMMARY:Harrisonburg Farmer's Market
DESCRIPTION:
URL:https://brucessyrupandcandies.com/event/harrisonburg-farmers-market-47/
LOCATION:Turner Pavilion 228 S Liberty Street Harrisonburg\, 228 South Liberty Street\, Harrisonburg\, VA\, 22801\, United States
END:VEVENT
BEGIN:VEVENT
DTSTART;TZID=UTC:20260922T080000
DTEND;TZID=UTC:20260922T130000
DTSTAMP:20260418T202930
CREATED:20260403T191208Z
LAST-MODIFIED:20260403T191208Z
UID:1320-1790064000-1790082000@brucessyrupandcandies.com
SUMMARY:Harrisonburg Farmer's Market
DESCRIPTION:
URL:https://brucessyrupandcandies.com/event/harrisonburg-farmers-market-48/
LOCATION:Turner Pavilion 228 S Liberty Street Harrisonburg\, 228 South Liberty Street\, Harrisonburg\, VA\, 22801\, United States
END:VEVENT
BEGIN:VEVENT
DTSTART;TZID=UTC:20261003T080000
DTEND;TZID=UTC:20261003T130000
DTSTAMP:20260418T202930
CREATED:20260403T192009Z
LAST-MODIFIED:20260403T192009Z
UID:1327-1791014400-1791032400@brucessyrupandcandies.com
SUMMARY:Harrisonburg Farmer's Market
DESCRIPTION:
URL:https://brucessyrupandcandies.com/event/harrisonburg-farmers-market-49/
LOCATION:Turner Pavilion 228 S Liberty Street Harrisonburg\, 228 South Liberty Street\, Harrisonburg\, VA\, 22801\, United States
END:VEVENT
BEGIN:VEVENT
DTSTART;TZID=UTC:20261006T080000
DTEND;TZID=UTC:20261006T130000
DTSTAMP:20260418T202930
CREATED:20260403T192054Z
LAST-MODIFIED:20260403T192054Z
UID:1329-1791273600-1791291600@brucessyrupandcandies.com
SUMMARY:Harrisonburg Farmer's Market
DESCRIPTION:
URL:https://brucessyrupandcandies.com/event/harrisonburg-farmers-market-50/
LOCATION:Turner Pavilion 228 S Liberty Street Harrisonburg\, 228 South Liberty Street\, Harrisonburg\, VA\, 22801\, United States
END:VEVENT
BEGIN:VEVENT
DTSTART;TZID=UTC:20261010T080000
DTEND;TZID=UTC:20261010T130000
DTSTAMP:20260418T202930
CREATED:20260403T192134Z
LAST-MODIFIED:20260403T192134Z
UID:1331-1791619200-1791637200@brucessyrupandcandies.com
SUMMARY:Harrisonburg Farmer's Market
DESCRIPTION:
URL:https://brucessyrupandcandies.com/event/harrisonburg-farmers-market-51/
LOCATION:Turner Pavilion 228 S Liberty Street Harrisonburg\, 228 South Liberty Street\, Harrisonburg\, VA\, 22801\, United States
END:VEVENT
BEGIN:VEVENT
DTSTART;TZID=UTC:20261013T080000
DTEND;TZID=UTC:20261013T130000
DTSTAMP:20260418T202930
CREATED:20260403T192229Z
LAST-MODIFIED:20260403T192229Z
UID:1333-1791878400-1791896400@brucessyrupandcandies.com
SUMMARY:Harrisonburg Farmer's Market
DESCRIPTION:
URL:https://brucessyrupandcandies.com/event/harrisonburg-farmers-market-52/
LOCATION:Turner Pavilion 228 S Liberty Street Harrisonburg\, 228 South Liberty Street\, Harrisonburg\, VA\, 22801\, United States
END:VEVENT
BEGIN:VEVENT
DTSTART;TZID=UTC:20261016T120000
DTEND;TZID=UTC:20261016T180000
DTSTAMP:20260418T202930
CREATED:20260403T192330Z
LAST-MODIFIED:20260403T192330Z
UID:1335-1792152000-1792173600@brucessyrupandcandies.com
SUMMARY:Shriner's Fall Festival
DESCRIPTION:
URL:https://brucessyrupandcandies.com/event/shriners-fall-festival/
LOCATION:Main Street Clifton Forge VA\, Clifton Forge\, VA\, United States
END:VEVENT
BEGIN:VEVENT
DTSTART;TZID=UTC:20261017T090000
DTEND;TZID=UTC:20261017T180000
DTSTAMP:20260418T202930
CREATED:20260403T192440Z
LAST-MODIFIED:20260403T192440Z
UID:1337-1792227600-1792260000@brucessyrupandcandies.com
SUMMARY:Shriner's Fall Festival
DESCRIPTION:
URL:https://brucessyrupandcandies.com/event/shriners-fall-festival-2/
LOCATION:Main Street Clifton Forge VA\, Clifton Forge\, VA\, United States
END:VEVENT
BEGIN:VEVENT
DTSTART;TZID=UTC:20261018T110000
DTEND;TZID=UTC:20261018T170000
DTSTAMP:20260418T202930
CREATED:20260403T192524Z
LAST-MODIFIED:20260403T192524Z
UID:1339-1792321200-1792342800@brucessyrupandcandies.com
SUMMARY:Shriner's Fall Festival
DESCRIPTION:
URL:https://brucessyrupandcandies.com/event/shriners-fall-festival-3/
LOCATION:Main Street Clifton Forge VA\, Clifton Forge\, VA\, United States
END:VEVENT
END:VCALENDAR